BEGIN:VCALENDAR
VERSION:2.0
PRODID:-//Halbe.Welt e.V.//NONSGML Events//EN
BEGIN:VEVENT
UID:1291
DTSTAMP:20260226T163943
DTSTART:20260502T150000
DTEND:20260503T180000
LOCATION:
DESCRIPTION:
SUMMARY:Offenes Atelier
ATTACH;FMTTYPE=image/jpeg:
URL;VALUE=URI:https://halbewelt.de/event/offenes-atelier/
END:VEVENT
BEGIN:VEVENT
UID:1285
DTSTAMP:20260310T123101
DTSTART:20260322T150000
DTEND:20260322T163000
LOCATION:Esperanto-Stacio
DESCRIPTION:"Fundevogel" Figurentheater frei nach den Gebrüder Grimm für Menschen ab 5\nJahren, ab 14 Uhr gibt es Popcorn und Getränke!\nDie Puppenspielerin Kathrin Thiele aus Potsdam versteht es mit sinnlichen\nBildern, die viel Spielraum für die Phantasie des Zuschauers lassen, kleine\nund große Zuschauer in die Welt der Märchen zu entführen.\nBerührend spielt Kathrin Thiele die Geschichte des Findelkindes Fundevogel\nin und um ein Buch herum mit Handpuppe und Fadenmarionette. Ein Förster\nfindet das Kind in einem Vogelnest und trägt es mit nach Haus. Beim Förster\nund seiner Tochter Lenchen findet das Fundevogelkind ein neues, liebevolles\nZuhause. Doch mit im Haus lebt die missgünstige Köchin, die es nicht\nertragen kann, dass die beiden Kinder einander so verbunden fühlen. Sie\nfasst einen ungeheuerlichen Plan...\nFundevogel ist ein Mutmach – Stück: Es geht um den Mut, den eigenen Weg\nzu gehen.\n\nEintritt frei! Kommt einfach vorbei :)\n\n
SUMMARY:Fundevogel Figurentheater
ATTACH;FMTTYPE=image/jpeg:https://halbewelt.de/wp-content/uploads/2026/02/Fundevogel_C6_klein.png
URL;VALUE=URI:https://halbewelt.de/event/fundevogel-figurentheater/
END:VEVENT
BEGIN:VEVENT
UID:1287
DTSTAMP:20260226T134548
DTSTART:20260220T180000
DTEND:20260220T200000
LOCATION:Esperanto-Stacio
DESCRIPTION:Halber Empfang – Was für ein schöner Abend – wir möchten uns von Herzen bei Ihnen bedanken!\n\nUnser Halber Empfang war dank der vielen interessierten, engagierten und offenen Menschen ein voller Erfolg. Es hat uns sehr gefreut zu sehen, wie lebendig der Austausch war, wie viele neue Kontakte geknüpft wurden und wie selbstverständlich gute Gespräche entstanden sind. Genau so stellen wir uns ein wachsendes Netzwerk für Halbe und das Schenkenländchen vor.\n\nUnd allen, die diesmal nicht dabei sein konnten, sagen wir: Wir haben Sie vermisst – und freuen uns umso mehr auf ein Wiedersehen bei einer der nächsten Gelegenheiten.\nDanke für Ihr Interesse, Ihr Engagement und Ihre Unterstützung!\nIhr Team von Halbe Welt
SUMMARY:Halber Empfang
ATTACH;FMTTYPE=image/jpeg:https://halbewelt.de/wp-content/uploads/2026/02/HalberEmpfang.jpeg
URL;VALUE=URI:https://halbewelt.de/event/halber-empfang-2/
END:VEVENT
BEGIN:VEVENT
UID:1276
DTSTAMP:20251121T103709
DTSTART:20251221T160000
DTEND:20251221T180000
LOCATION:Esperanto Stacio, Bahnhofstraße 30 in Halbe
DESCRIPTION:
SUMMARY:Weihnachtsnachmittag
ATTACH;FMTTYPE=image/jpeg:
URL;VALUE=URI:https://halbewelt.de/event/1276/
END:VEVENT
BEGIN:VEVENT
UID:1270
DTSTAMP:20251110T204459
DTSTART:20251207T160000
DTEND:20251207T173000
LOCATION:Kaiserbahnhof Halbe
DESCRIPTION:. Weihnachtliches Konzert, Jazz, Pop und Klassik
SUMMARY:Mattihas Wacker
ATTACH;FMTTYPE=image/jpeg:https://halbewelt.de/wp-content/uploads/2025/11/Matthias_Wacker_Weihnachten_2025.JPEG.jpeg
URL;VALUE=URI:https://halbewelt.de/event/mattihas-wacker/
END:VEVENT
BEGIN:VEVENT
UID:1269
DTSTAMP:20251110T224612
DTSTART:20251129T160000
DTEND:20251129T173000
LOCATION:Kaiserbahnhof Halbe
DESCRIPTION:
SUMMARY:Schenkenland BIG BAND
ATTACH;FMTTYPE=image/jpeg:https://halbewelt.de/wp-content/uploads/2025/11/Weihnachtsplakat_KBH.jpg
URL;VALUE=URI:https://halbewelt.de/event/schenkenland-big-band/
END:VEVENT
BEGIN:VEVENT
UID:1266
DTSTAMP:20251110T110504
DTSTART:20251115T170000
DTEND:20251115T190000
LOCATION:Kaiserbahnhof Halbe
DESCRIPTION:Lesung: Hans Fallada: \n\n„Jeder stirbt für sich allein“ (1947) Der Roman beschreibt, wie Otto und Anna Quangel von Mitläufern zu Widerstandskämpfern werden. Nach der Nachricht, dass ihr einziger Sohn an der Front gefallen ist, ist nichts mehr wie es war. Sie empören sich, sie lehnen sich auf, wollen etwas tun. Sie beschließen, regierungskritische Sätze auf Postkarten zu schreiben und die dann überall in Berlin zu verteilen. Schließlich werden sie von der Gestapo gefasst und in Plötzensee hingerichtet. \n„Jeder stirbt für sich allein“ ist einerseits ein spannender Krimi und andererseits ein Zeugnis für den Mut des „kleinen Mannes“ in Berlin unter der Diktatur. Dass Fallada wusste und miterlebt hatte, wie sich das Leben während des NS-Regimes anfühlte, ist in jeder Zeile spürbar. Falladas Geschichte erzählt von Mut, von Widerstand gegen das Unrecht, gegen das falsche Leben, aber eben auch von der Gewissheit, dass jeder einzelne etwas tun und bewegen kann. \n\n- Uwe Neumann und Anette Daugardt führen durch das Programm -
SUMMARY:Hans Fallada Abend
ATTACH;FMTTYPE=image/jpeg:https://halbewelt.de/wp-content/uploads/2025/11/Fallada-1.jpg
URL;VALUE=URI:https://halbewelt.de/event/__trashed-2/
END:VEVENT
BEGIN:VEVENT
UID:1199
DTSTAMP:20251006T111410
DTSTART:20251024T000000
DTEND:20251026T000000
LOCATION:Esperanto-Stacio (Bahnhof Halbe)
DESCRIPTION:Kostenfreier Esperanto-Anfängerkurs in der Esperanto-Stacio\n\nVom 24. bis 26. Oktober laden wir alle Interessierten herzlich zu einem 3-tägigen Anfängerkurs in der Esperanto-Stacio ein. Vorkenntnisse sind nicht nötig – alle sind willkommen!\n\nDer Kurs selbst ist kostenfrei. Für Mahlzeiten und Übernachtung fällt lediglich ein kleiner Unkostenbeitrag an. Drei Tage voller praxisnaher Übungen, Austausch und Einblicke in die internationale Sprache, die Menschen weltweit verbindet.\n\nSichere dir jetzt deinen Platz und tauche ein in die Welt von Esperanto!\n\nAnmeldung: info@esperantostacio.com
SUMMARY:Esperanto Blitzkurs
ATTACH;FMTTYPE=image/jpeg:https://halbewelt.de/wp-content/uploads/2025/09/Esperanto-kurso-724x1024.png
URL;VALUE=URI:https://halbewelt.de/event/esperanto-blitzkurs/
END:VEVENT
BEGIN:VEVENT
UID:1213
DTSTAMP:20251005T091409
DTSTART:20251018T150000
DTEND:20251018T170000
LOCATION:Kaiserbahnhof Halbe
DESCRIPTION:Harmoniemusik in Wien um 1800\nZur Zeit der Wiener Klassik war die Harmoniemusik – mit je zwei Oboen, Klarinetten, Hörnern und Fagotten – äußerst beliebt. \nDas Programm knüpft an diese Tradition an: Joseph Heidenreichs historische Bearbeitung von Mozarts Zauberflöte, Hummels virtuose Partita in Es-Dur sowie Wenzel Sedlaks Harmoniemusikfassung der Oper Die blaue Insel. Den Abschluss bildet die Oktett-Partita in F op. 73 von Franz Krommer – einem Meister der Bläsermusik und späteren Hofkapellmeister in Wien.\n\nKarten: \nVorbestellung unter halbewelt.veranstaltungen@gmail.com \nund www.eventim-light.de
SUMMARY:Harmoniemusik
ATTACH;FMTTYPE=image/jpeg:
URL;VALUE=URI:https://halbewelt.de/event/harmoniemusik/
END:VEVENT
BEGIN:VEVENT
UID:1217
DTSTAMP:20251005T091137
DTSTART:20251012T100000
DTEND:20251012T160000
LOCATION:Bahnhof Halbe
DESCRIPTION:Windows 10 läuft bald nicht mehr. Ihr bräuchtet neue Hardware um Windows 11 zu installieren. Aber das muss nicht sein. Wir bieten euch ein Linux Install Cafe an. Wir helfen euch Linux auf eure Rechner zu bringen, bei Kaffee und Tee.\n
SUMMARY:Linux Install Cafe
ATTACH;FMTTYPE=image/jpeg:https://halbewelt.de/wp-content/uploads/2025/10/signal-2025-10-01-151553.jpeg
URL;VALUE=URI:https://halbewelt.de/event/linux-install-cafe/
END:VEVENT
BEGIN:VEVENT
UID:1206
DTSTAMP:20250915T212510
DTSTART:20250921T150000
DTEND:20250921T170000
LOCATION:Kaiserbahnhof Halbe
DESCRIPTION:Morleys Klänge treffen auf  Shakespears Worte\nEnrico Toffano und sein Ensemble spielen Stücke von Thomas Morley aus dem 16. Jahrhundert auf historischen Blasinstrumenten. Sie werden in Verbindung  mit Gedichten  von William Shakespeare vorgetragen.\nMit : Enrico Toffano, Josepha Winterfeld, Elonora Trivella, Monika Fischalek, Daniel Brunet (Schauspiel)\nKarten  18€      Abendkasse und www.eventim.de  \nVorbestellung: halbewelt.veranstaltungen@gmail.com
SUMMARY:SEASONS OF LOVE
ATTACH;FMTTYPE=image/jpeg:https://halbewelt.de/wp-content/uploads/2025/09/Seasons-of-Love-Plakat-1-e1757616482572-1024x268.jpg
URL;VALUE=URI:https://halbewelt.de/event/seasons-of-love/
END:VEVENT
BEGIN:VEVENT
UID:1177
DTSTAMP:20250827T081924
DTSTART:20250913T150000
DTEND:20250913T210000
LOCATION:Kaiserbahnhof und Bahnhofsvorplatz Halbe
DESCRIPTION:Ein Familienfest im Kaiserbahnhof und auf dem Bahnhofsvorplatz mit Essen, Getränken, Musik, Jugendbeteiligung zu Projekten, Ausstellung der Friedrich Ebert Stiftung zu Demokratie und Ständen von Politischen Parteien. \nDie Gelegenheit um sich in entspannter Atmosphäre auszutauschen. Ein Auftritt der Tornower Tanzkids und Kaffee und Kuchen runden das Event ab.
SUMMARY:Sommerfest der Demokratie
ATTACH;FMTTYPE=image/jpeg:
URL;VALUE=URI:https://halbewelt.de/event/sommerfest-der-demokratie/
END:VEVENT
BEGIN:VEVENT
UID:1182
DTSTAMP:20250828T204256
DTSTART:20250904T170000
DTEND:20250904T190000
LOCATION:Esperanto-Stacio
DESCRIPTION:1. Wirtschaftsabend von Halbe.Welt e.V: mit dem Landrat Sven Herzberger und Hans Leister von Pro Bahn und weiteren Akteuren aus lokaler Wirtschaft, Kultur und öffentlicher Hand.\nTeilnahme nach Anmeldung unter: birte.moepert@halbewelt.de
SUMMARY:1. Wirtschaftsabend
ATTACH;FMTTYPE=image/jpeg:https://halbewelt.de/wp-content/uploads/2025/08/Banner_email.jpg
URL;VALUE=URI:https://halbewelt.de/event/1-wirtschaftsabend/
END:VEVENT
BEGIN:VEVENT
UID:1151
DTSTAMP:20250617T164846
DTSTART:20250823T130000
DTEND:20250823T190000
LOCATION:Kaiserbahnhof Halbe
DESCRIPTION:Vier Stimmen, dazu Gitarre, Saxofon, Kontrabass und allerlei Perkussionsinstrumente - wenn die Akustischen Vier loslegen, begeistern sie das Publikum weltweit.
SUMMARY:Brandenburgische Sommerkonzerte
ATTACH;FMTTYPE=image/jpeg:https://halbewelt.de/wp-content/uploads/2025/05/aktustische_vier-1024x609.jpg
URL;VALUE=URI:https://halbewelt.de/event/brandenburgische-sommerkonzerte/
END:VEVENT
BEGIN:VEVENT
UID:1167
DTSTAMP:20250730T222110
DTSTART:20250810T150000
DTEND:20250810T170000
LOCATION:Kaiserbahnhof Halbe
DESCRIPTION:Die Schlagersängerin Cindy Berger hat in den siebziger Jahren mit ihrem Partner Bert\nunzählige Hits gesungen. Das Traumduo war Gast in vielen Fernsehshows und bei Musik-\nwettbewerben. Cindy Berger hat 16 Musikalben veröffentlicht und wurde unter anderem \nmit der "Goldenen Europa" ausgezeichnet.\nMit ihrem neuen Partner Norbi gestaltet sie mit Schlagern und Anekdoten einen heiteren Nachmittag.\nSie stellen auch ihre neuen Single vor, die von Erinnerung und unbeschwerten Kindheitstagen erzählt.\n"Wir wollen Gefühle wecken und Herzen berühren.." sagen sie in einem Interview.\nZum "Kaffeklatsch" werden  Getränke, Snacks und Kuchen angeboten
SUMMARY:Kaffeeklatsch mit Kultstar Cindy Berger und Norbi
ATTACH;FMTTYPE=image/jpeg:https://halbewelt.de/wp-content/uploads/2025/07/Cindy-quer-2-1024x243.jpg
URL;VALUE=URI:https://halbewelt.de/event/__trashed/
END:VEVENT
END:VCALENDAR